BEGIN:VCALENDAR
VERSION:2.0
PRODID:-//Ohio Soccer Moms and Dads - ECPv6.15.20//NONSGML v1.0//EN
CALSCALE:GREGORIAN
METHOD:PUBLISH
X-WR-CALNAME:Ohio Soccer Moms and Dads
X-ORIGINAL-URL:https://soccermomsanddads.com
X-WR-CALDESC:Events for Ohio Soccer Moms and Dads
REFRESH-INTERVAL;VALUE=DURATION:PT1H
X-Robots-Tag:noindex
X-PUBLISHED-TTL:PT1H
BEGIN:VTIMEZONE
TZID:America/New_York
BEGIN:DAYLIGHT
TZOFFSETFROM:-0500
TZOFFSETTO:-0400
TZNAME:EDT
DTSTART:20250309T070000
END:DAYLIGHT
BEGIN:STANDARD
TZOFFSETFROM:-0400
TZOFFSETTO:-0500
TZNAME:EST
DTSTART:20251102T060000
END:STANDARD
BEGIN:DAYLIGHT
TZOFFSETFROM:-0500
TZOFFSETTO:-0400
TZNAME:EDT
DTSTART:20260308T070000
END:DAYLIGHT
BEGIN:STANDARD
TZOFFSETFROM:-0400
TZOFFSETTO:-0500
TZNAME:EST
DTSTART:20261101T060000
END:STANDARD
BEGIN:DAYLIGHT
TZOFFSETFROM:-0500
TZOFFSETTO:-0400
TZNAME:EDT
DTSTART:20270314T070000
END:DAYLIGHT
BEGIN:STANDARD
TZOFFSETFROM:-0400
TZOFFSETTO:-0500
TZNAME:EST
DTSTART:20271107T060000
END:STANDARD
END:VTIMEZONE
BEGIN:VEVENT
DTSTART;VALUE=DATE:20260216
DTEND;VALUE=DATE:20260217
DTSTAMP:20260424T192835
CREATED:20260210T205057Z
LAST-MODIFIED:20260212T190506Z
UID:10000003-1771200000-1771286399@soccermomsanddads.com
SUMMARY:President's Day Rush Futsal Tourney
DESCRIPTION:Games are played on a small court with 5 players per side. Schedules are designed with moms and dads in mind: there’s not a ton of time between games so you won’t be waiting around all day. What better way to spend a snowy Monday off from school than by playing futsal! \nhttps://cincysc.com/tourneys/presidents-day-rush/
URL:https://soccermomsanddads.com/event/presidents-day-rush-futsal-tourney/
CATEGORIES:Ohio
ATTACH;FMTTYPE=image/jpeg:https://soccermomsanddads.com/wp-content/uploads/2026/02/FutsalRushLogo.jpg
END:VEVENT
END:VCALENDAR