BEGIN:VCALENDAR
VERSION:2.0
PRODID:-//Ohio Soccer Moms and Dads - ECPv6.15.20//NONSGML v1.0//EN
CALSCALE:GREGORIAN
METHOD:PUBLISH
X-WR-CALNAME:Ohio Soccer Moms and Dads
X-ORIGINAL-URL:https://soccermomsanddads.com
X-WR-CALDESC:Events for Ohio Soccer Moms and Dads
REFRESH-INTERVAL;VALUE=DURATION:PT1H
X-Robots-Tag:noindex
X-PUBLISHED-TTL:PT1H
BEGIN:VTIMEZONE
TZID:America/New_York
BEGIN:DAYLIGHT
TZOFFSETFROM:-0500
TZOFFSETTO:-0400
TZNAME:EDT
DTSTART:20250309T070000
END:DAYLIGHT
BEGIN:STANDARD
TZOFFSETFROM:-0400
TZOFFSETTO:-0500
TZNAME:EST
DTSTART:20251102T060000
END:STANDARD
BEGIN:DAYLIGHT
TZOFFSETFROM:-0500
TZOFFSETTO:-0400
TZNAME:EDT
DTSTART:20260308T070000
END:DAYLIGHT
BEGIN:STANDARD
TZOFFSETFROM:-0400
TZOFFSETTO:-0500
TZNAME:EST
DTSTART:20261101T060000
END:STANDARD
BEGIN:DAYLIGHT
TZOFFSETFROM:-0500
TZOFFSETTO:-0400
TZNAME:EDT
DTSTART:20270314T070000
END:DAYLIGHT
BEGIN:STANDARD
TZOFFSETFROM:-0400
TZOFFSETTO:-0500
TZNAME:EST
DTSTART:20271107T060000
END:STANDARD
END:VTIMEZONE
BEGIN:VEVENT
DTSTART;VALUE=DATE:20260601
DTEND;VALUE=DATE:20260701
DTSTAMP:20260424T192800
CREATED:20260210T214331Z
LAST-MODIFIED:20260212T191623Z
UID:10000033-1780272000-1782863999@soccermomsanddads.com
SUMMARY:Lancaster Summer Classic
DESCRIPTION:Boys & Girls U9-U19 \nhttps://elitetournaments.com/tournaments/lancaster-summer-classic/
URL:https://soccermomsanddads.com/event/lancaster-summer-classic/
CATEGORIES:Pennsylvania
ATTACH;FMTTYPE=image/png:https://soccermomsanddads.com/wp-content/uploads/2026/02/LancasterSummer26.png
END:VEVENT
BEGIN:VEVENT
DTSTART;VALUE=DATE:20260601
DTEND;VALUE=DATE:20260701
DTSTAMP:20260424T192800
CREATED:20260210T214601Z
LAST-MODIFIED:20260212T191648Z
UID:10000034-1780272000-1782863999@soccermomsanddads.com
SUMMARY:Mason Dixon Cup
DESCRIPTION:Boys & Girls U8-U19 \nhttps://elitetournaments.com/tournaments/mason-dixon-cup/
URL:https://soccermomsanddads.com/event/mason-dixon-cup/
CATEGORIES:Ohio
ATTACH;FMTTYPE=image/jpeg:https://soccermomsanddads.com/wp-content/uploads/2026/02/imgi_38_eduardo-flores-tOdS_OYdnKA-unsplash-scaled-1.jpg
END:VEVENT
BEGIN:VEVENT
DTSTART;VALUE=DATE:20260627
DTEND;VALUE=DATE:20260628
DTSTAMP:20260424T192800
CREATED:20260210T214711Z
LAST-MODIFIED:20260212T191709Z
UID:10000035-1782518400-1782604799@soccermomsanddads.com
SUMMARY:Founder's Cup Street Tournament
DESCRIPTION:Columbus Futsal’s 20th Anniversary Celebration 4v4 rush street event -youth and adult. \nhttps://www.columbusfutsal.us/tournaments
URL:https://soccermomsanddads.com/event/founders-cup-street-tournament/
CATEGORIES:Ohio
ATTACH;FMTTYPE=image/avif:https://soccermomsanddads.com/wp-content/uploads/2026/02/27f6a5_f74c7984703247448407d9cd23546b9cmv2.avif
END:VEVENT
BEGIN:VEVENT
DTSTART;VALUE=DATE:20260627
DTEND;VALUE=DATE:20260628
DTSTAMP:20260424T192800
CREATED:20260210T214917Z
LAST-MODIFIED:20260212T191733Z
UID:10000036-1782518400-1782604799@soccermomsanddads.com
SUMMARY:CSA Turf Wars
DESCRIPTION:Boys & Girls U6 – U14. \nhttps://airpitchusa.com/csa3v3-delaware-ohio-soccer
URL:https://soccermomsanddads.com/event/csa-turf-wars/
CATEGORIES:Ohio
ATTACH;FMTTYPE=image/webp:https://soccermomsanddads.com/wp-content/uploads/2026/02/imgi_24_022026_Delaware_OH_W.png.webp
END:VEVENT
END:VCALENDAR