BEGIN:VCALENDAR
VERSION:2.0
PRODID:-//Ohio Soccer Moms and Dads - ECPv6.15.20//NONSGML v1.0//EN
CALSCALE:GREGORIAN
METHOD:PUBLISH
X-WR-CALNAME:Ohio Soccer Moms and Dads
X-ORIGINAL-URL:https://soccermomsanddads.com
X-WR-CALDESC:Events for Ohio Soccer Moms and Dads
REFRESH-INTERVAL;VALUE=DURATION:PT1H
X-Robots-Tag:noindex
X-PUBLISHED-TTL:PT1H
BEGIN:VTIMEZONE
TZID:America/New_York
BEGIN:DAYLIGHT
TZOFFSETFROM:-0500
TZOFFSETTO:-0400
TZNAME:EDT
DTSTART:20250309T070000
END:DAYLIGHT
BEGIN:STANDARD
TZOFFSETFROM:-0400
TZOFFSETTO:-0500
TZNAME:EST
DTSTART:20251102T060000
END:STANDARD
BEGIN:DAYLIGHT
TZOFFSETFROM:-0500
TZOFFSETTO:-0400
TZNAME:EDT
DTSTART:20260308T070000
END:DAYLIGHT
BEGIN:STANDARD
TZOFFSETFROM:-0400
TZOFFSETTO:-0500
TZNAME:EST
DTSTART:20261101T060000
END:STANDARD
BEGIN:DAYLIGHT
TZOFFSETFROM:-0500
TZOFFSETTO:-0400
TZNAME:EDT
DTSTART:20270314T070000
END:DAYLIGHT
BEGIN:STANDARD
TZOFFSETFROM:-0400
TZOFFSETTO:-0500
TZNAME:EST
DTSTART:20271107T060000
END:STANDARD
END:VTIMEZONE
BEGIN:VEVENT
DTSTART;VALUE=DATE:20260911
DTEND;VALUE=DATE:20260914
DTSTAMP:20260424T233045
CREATED:20260213T225318Z
LAST-MODIFIED:20260213T225318Z
UID:10000067-1789084800-1789343999@soccermomsanddads.com
SUMMARY:Buckeye September Showdown
DESCRIPTION:The Buckeye September Showdown is proudly hosted by Cincinnati United SC and Tournament Guru Events. The event will be played on the combined 16 synthetic turf & well maintained grass fields of the Warren County Sports Park. Gold\, Silver\, and Bronze level Boys & Girls teams U8-U15 are invited to join us and experience high quality playing surfaces\, first class professional event management\, and a schedule designed for competitive balance\, development\, and fun! \nhttps://cincinnatiunitedsc.gotsportsites.com/buckeye-september-showdown/
URL:https://soccermomsanddads.com/event/buckeye-september-showdown/
CATEGORIES:Ohio
ATTACH;FMTTYPE=image/jpeg:https://soccermomsanddads.com/wp-content/uploads/2026/02/b6ca7e_ec410f4c72d84331bc6844f4513154acmv2.jpg
END:VEVENT
END:VCALENDAR