BEGIN:VCALENDAR
VERSION:2.0
PRODID:-//Ohio Soccer Moms and Dads - ECPv6.15.20//NONSGML v1.0//EN
CALSCALE:GREGORIAN
METHOD:PUBLISH
X-ORIGINAL-URL:https://soccermomsanddads.com
X-WR-CALDESC:Events for Ohio Soccer Moms and Dads
REFRESH-INTERVAL;VALUE=DURATION:PT1H
X-Robots-Tag:noindex
X-PUBLISHED-TTL:PT1H
BEGIN:VTIMEZONE
TZID:America/New_York
BEGIN:DAYLIGHT
TZOFFSETFROM:-0500
TZOFFSETTO:-0400
TZNAME:EDT
DTSTART:20250309T070000
END:DAYLIGHT
BEGIN:STANDARD
TZOFFSETFROM:-0400
TZOFFSETTO:-0500
TZNAME:EST
DTSTART:20251102T060000
END:STANDARD
BEGIN:DAYLIGHT
TZOFFSETFROM:-0500
TZOFFSETTO:-0400
TZNAME:EDT
DTSTART:20260308T070000
END:DAYLIGHT
BEGIN:STANDARD
TZOFFSETFROM:-0400
TZOFFSETTO:-0500
TZNAME:EST
DTSTART:20261101T060000
END:STANDARD
BEGIN:DAYLIGHT
TZOFFSETFROM:-0500
TZOFFSETTO:-0400
TZNAME:EDT
DTSTART:20270314T070000
END:DAYLIGHT
BEGIN:STANDARD
TZOFFSETFROM:-0400
TZOFFSETTO:-0500
TZNAME:EST
DTSTART:20271107T060000
END:STANDARD
END:VTIMEZONE
BEGIN:VEVENT
DTSTART;VALUE=DATE:20260919
DTEND;VALUE=DATE:20260922
DTSTAMP:20260424T233444
CREATED:20260213T230025Z
LAST-MODIFIED:20260213T230025Z
UID:10000072-1789776000-1790035199@soccermomsanddads.com
SUMMARY:Kolping SC 1931 Invitational
DESCRIPTION:U8-U19 Boys and Girls. \nhttps://kolpingsc.com/tournaments/
URL:https://soccermomsanddads.com/event/kolping-sc-1931-invitational/
CATEGORIES:Ohio
ATTACH;FMTTYPE=image/webp:https://soccermomsanddads.com/wp-content/uploads/2026/02/1931-Kolping-Invitiational-2025-logo.webp
END:VEVENT
BEGIN:VEVENT
DTSTART;VALUE=DATE:20260919
DTEND;VALUE=DATE:20260922
DTSTAMP:20260424T233444
CREATED:20260213T230352Z
LAST-MODIFIED:20260213T230352Z
UID:10000073-1789776000-1790035199@soccermomsanddads.com
SUMMARY:Dublin United Champions Cup
DESCRIPTION:U8-U15 Boys and Girls. A Great Tournament for Mid-Level Teams. A long history of 200+ teams meaning multiple divisions in nearly all age groups U-08 through U-15. A separate U-08 Division for both boys and girls assuming enough register. Modest Fee Structure. Coach-Friendly Scheduling. Nice Fields at Darree Fields in Dublin. High Quality Awards. \nhttps://dublinunited.tourneycentral.com/
URL:https://soccermomsanddads.com/event/dublin-united-champions-cup/
CATEGORIES:Ohio
ATTACH;FMTTYPE=image/png:https://soccermomsanddads.com/wp-content/uploads/2026/02/b6ca7e_3affe9d498574c74b89be8f43f97394cmv2.png
END:VEVENT
END:VCALENDAR