BEGIN:VCALENDAR
VERSION:2.0
PRODID:-//Ohio Soccer Moms and Dads - ECPv6.15.20//NONSGML v1.0//EN
CALSCALE:GREGORIAN
METHOD:PUBLISH
X-ORIGINAL-URL:https://soccermomsanddads.com
X-WR-CALDESC:Events for Ohio Soccer Moms and Dads
REFRESH-INTERVAL;VALUE=DURATION:PT1H
X-Robots-Tag:noindex
X-PUBLISHED-TTL:PT1H
BEGIN:VTIMEZONE
TZID:America/New_York
BEGIN:DAYLIGHT
TZOFFSETFROM:-0500
TZOFFSETTO:-0400
TZNAME:EDT
DTSTART:20250309T070000
END:DAYLIGHT
BEGIN:STANDARD
TZOFFSETFROM:-0400
TZOFFSETTO:-0500
TZNAME:EST
DTSTART:20251102T060000
END:STANDARD
BEGIN:DAYLIGHT
TZOFFSETFROM:-0500
TZOFFSETTO:-0400
TZNAME:EDT
DTSTART:20260308T070000
END:DAYLIGHT
BEGIN:STANDARD
TZOFFSETFROM:-0400
TZOFFSETTO:-0500
TZNAME:EST
DTSTART:20261101T060000
END:STANDARD
BEGIN:DAYLIGHT
TZOFFSETFROM:-0500
TZOFFSETTO:-0400
TZNAME:EDT
DTSTART:20270314T070000
END:DAYLIGHT
BEGIN:STANDARD
TZOFFSETFROM:-0400
TZOFFSETTO:-0500
TZNAME:EST
DTSTART:20271107T060000
END:STANDARD
END:VTIMEZONE
BEGIN:VEVENT
DTSTART;VALUE=DATE:20260801
DTEND;VALUE=DATE:20260802
DTSTAMP:20260424T223221
CREATED:20260212T195807Z
LAST-MODIFIED:20260212T195807Z
UID:10000047-1785542400-1785628799@soccermomsanddads.com
SUMMARY:Premier 3v3 Cup
DESCRIPTION:Boys & Girls U8 – U12. \nhttps://airpitchusa.com/premier3v3-cincinnati-ohio-soccer
URL:https://soccermomsanddads.com/event/premier-3v3-cup/
CATEGORIES:Ohio
ATTACH;FMTTYPE=image/png:https://soccermomsanddads.com/wp-content/uploads/2026/02/b6ca7e_842919938e1a47968ea8c2d6cc5567a6mv2.png
END:VEVENT
BEGIN:VEVENT
DTSTART;VALUE=DATE:20260802
DTEND;VALUE=DATE:20260803
DTSTAMP:20260424T223221
CREATED:20260213T221437Z
LAST-MODIFIED:20260214T113600Z
UID:10000050-1785628800-1785715199@soccermomsanddads.com
SUMMARY:Columbus Cup 3v3
DESCRIPTION:U6-U12 Boys and Girls Middle School Boys and Girls The event will be played on the AirPitch Format used by Arsenal\, Manchester City\, and many TOP clubs around the world. Enjoy a unique\, non-stop-play environment with more dribbles\, more passes\, more intensity & more FUN! \nhttps://airpitchusa.com/columbus-oh-soccer-3v3-airpitch-tournament?fbclid=IwY2xjawKsBi1leHRuA2FlbQIxMABicmlkETFHenhPUUNuZjMwQTRhcmtMAR4mIi-Kt2ET_Wfa-s4U_xGBXTQAt7qVLUaRt1NsTWIXYXbUsors8GWwllTHIQ_aem_IoLsmeajVtu7xmit6AvrWw
URL:https://soccermomsanddads.com/event/columbus-cup-3v3-3/
CATEGORIES:Ohio
ATTACH;FMTTYPE=image/jpeg:https://soccermomsanddads.com/wp-content/uploads/2026/02/GettyImages-687421186-1.jpg
END:VEVENT
BEGIN:VEVENT
DTSTART;VALUE=DATE:20260828
DTEND;VALUE=DATE:20260831
DTSTAMP:20260424T223221
CREATED:20260213T223237Z
LAST-MODIFIED:20260213T223237Z
UID:10000060-1787875200-1788134399@soccermomsanddads.com
SUMMARY:Party on the Pitch
DESCRIPTION:Party on the Pitch has been a sell-out for the past 7 years. From 2015-2021\, 3\,500+ players\, ages 8-15\, from 228+ teams comprising more than 38 divisions converged on the Lebanon Sports Complex (Now hosted at the Warren County Sports Park) for a fun\, competitive weekend of soccer. \nhttps://partyonthepitch.tourneycentral.com/
URL:https://soccermomsanddads.com/event/party-on-the-pitch/
CATEGORIES:Ohio
ATTACH;FMTTYPE=image/jpeg:https://soccermomsanddads.com/wp-content/uploads/2026/02/POTPSHIRT1769254027.jpg
END:VEVENT
END:VCALENDAR