BEGIN:VCALENDAR
VERSION:2.0
PRODID:-//Ohio Soccer Moms and Dads - ECPv6.15.20//NONSGML v1.0//EN
CALSCALE:GREGORIAN
METHOD:PUBLISH
X-WR-CALNAME:Ohio Soccer Moms and Dads
X-ORIGINAL-URL:https://soccermomsanddads.com
X-WR-CALDESC:Events for Ohio Soccer Moms and Dads
REFRESH-INTERVAL;VALUE=DURATION:PT1H
X-Robots-Tag:noindex
X-PUBLISHED-TTL:PT1H
BEGIN:VTIMEZONE
TZID:America/New_York
BEGIN:DAYLIGHT
TZOFFSETFROM:-0500
TZOFFSETTO:-0400
TZNAME:EDT
DTSTART:20250309T070000
END:DAYLIGHT
BEGIN:STANDARD
TZOFFSETFROM:-0400
TZOFFSETTO:-0500
TZNAME:EST
DTSTART:20251102T060000
END:STANDARD
BEGIN:DAYLIGHT
TZOFFSETFROM:-0500
TZOFFSETTO:-0400
TZNAME:EDT
DTSTART:20260308T070000
END:DAYLIGHT
BEGIN:STANDARD
TZOFFSETFROM:-0400
TZOFFSETTO:-0500
TZNAME:EST
DTSTART:20261101T060000
END:STANDARD
BEGIN:DAYLIGHT
TZOFFSETFROM:-0500
TZOFFSETTO:-0400
TZNAME:EDT
DTSTART:20270314T070000
END:DAYLIGHT
BEGIN:STANDARD
TZOFFSETFROM:-0400
TZOFFSETTO:-0500
TZNAME:EST
DTSTART:20271107T060000
END:STANDARD
END:VTIMEZONE
BEGIN:VEVENT
DTSTART;VALUE=DATE:20260501
DTEND;VALUE=DATE:20260601
DTSTAMP:20260424T183531
CREATED:20260210T213815Z
LAST-MODIFIED:20260212T191117Z
UID:10000030-1777593600-1780271999@soccermomsanddads.com
SUMMARY:Gettysburg Blue Gray Cup - Memorial Day Tournament
DESCRIPTION:Boys & Girls U8-U19 \nhttps://elitetournaments.com/tournaments/gettysburg-blue-gray-cup/
URL:https://soccermomsanddads.com/event/gettysburg-blue-gray-cup-memorial-day-tournament/
CATEGORIES:Pennsylvania
ATTACH;FMTTYPE=image/webp:https://soccermomsanddads.com/wp-content/uploads/2026/02/BlueGray26.webp
END:VEVENT
BEGIN:VEVENT
DTSTART;VALUE=DATE:20260530
DTEND;VALUE=DATE:20260601
DTSTAMP:20260424T183531
CREATED:20260210T214201Z
LAST-MODIFIED:20260212T191601Z
UID:10000032-1780099200-1780271999@soccermomsanddads.com
SUMMARY:ORL Season Finale
DESCRIPTION:Powered by The Ohio River League\nErie Sports Center\n8155 Oliver Rd South\nErie\,PA 16509\nMay 30-31\,2026\nBoys & Girls Age Groups:U9 to U15\nClick Here to Register\nU9 to U12 Cost: $375\nU13 to U15 Cost: $550 \nhttps://greatlakestournaments.com/orl-season-finale/
URL:https://soccermomsanddads.com/event/orl-season-finale/
CATEGORIES:Pennsylvania
ATTACH;FMTTYPE=image/png:https://soccermomsanddads.com/wp-content/uploads/2026/02/OHIO-RIVER-LOGO-season-finale-cropped-300x277-1.png
END:VEVENT
END:VCALENDAR