BEGIN:VCALENDAR
VERSION:2.0
PRODID:-//Ohio Soccer Moms and Dads - ECPv6.15.20//NONSGML v1.0//EN
CALSCALE:GREGORIAN
METHOD:PUBLISH
X-WR-CALNAME:Ohio Soccer Moms and Dads
X-ORIGINAL-URL:https://soccermomsanddads.com
X-WR-CALDESC:Events for Ohio Soccer Moms and Dads
REFRESH-INTERVAL;VALUE=DURATION:PT1H
X-Robots-Tag:noindex
X-PUBLISHED-TTL:PT1H
BEGIN:VTIMEZONE
TZID:America/New_York
BEGIN:DAYLIGHT
TZOFFSETFROM:-0500
TZOFFSETTO:-0400
TZNAME:EDT
DTSTART:20240310T070000
END:DAYLIGHT
BEGIN:STANDARD
TZOFFSETFROM:-0400
TZOFFSETTO:-0500
TZNAME:EST
DTSTART:20241103T060000
END:STANDARD
BEGIN:DAYLIGHT
TZOFFSETFROM:-0500
TZOFFSETTO:-0400
TZNAME:EDT
DTSTART:20250309T070000
END:DAYLIGHT
BEGIN:STANDARD
TZOFFSETFROM:-0400
TZOFFSETTO:-0500
TZNAME:EST
DTSTART:20251102T060000
END:STANDARD
BEGIN:DAYLIGHT
TZOFFSETFROM:-0500
TZOFFSETTO:-0400
TZNAME:EDT
DTSTART:20260308T070000
END:DAYLIGHT
BEGIN:STANDARD
TZOFFSETFROM:-0400
TZOFFSETTO:-0500
TZNAME:EST
DTSTART:20261101T060000
END:STANDARD
BEGIN:DAYLIGHT
TZOFFSETFROM:-0500
TZOFFSETTO:-0400
TZNAME:EDT
DTSTART:20270314T070000
END:DAYLIGHT
BEGIN:STANDARD
TZOFFSETFROM:-0400
TZOFFSETTO:-0500
TZNAME:EST
DTSTART:20271107T060000
END:STANDARD
END:VTIMEZONE
BEGIN:VEVENT
DTSTART;VALUE=DATE:20251031
DTEND;VALUE=DATE:20251103
DTSTAMP:20260424T233809
CREATED:20260213T233322Z
LAST-MODIFIED:20260213T233322Z
UID:10000088-1761868800-1762127999@soccermomsanddads.com
SUMMARY:Fall Turf Fest
DESCRIPTION:Our Fall Turf Fest is designed for u11 – u19 boys and girls teams interested in an early November event. The Fall Turf Fest is designed for second level teams looking for a great way to end their u11 – u14 season or u15-u19 teams looking for a way to kick off their season after the conclusion of their school based soccer season. Teams are guaranteed 3 matches with teams advancing from pool play to a final. \nhttps://www.ohiogalaxiesfc.com/tournaments
URL:https://soccermomsanddads.com/event/fall-turf-fest/
CATEGORIES:Ohio
ATTACH;FMTTYPE=image/png:https://soccermomsanddads.com/wp-content/uploads/2026/02/18155d1c1acb46228798e77421b211d7.png
END:VEVENT
BEGIN:VEVENT
DTSTART;VALUE=DATE:20251101
DTEND;VALUE=DATE:20251103
DTSTAMP:20260424T233809
CREATED:20260213T233554Z
LAST-MODIFIED:20260213T233554Z
UID:10000089-1761955200-1762127999@soccermomsanddads.com
SUMMARY:Club Ohio Fall Classic 2023
DESCRIPTION:Notes U8s are welcome and will play in U9 lowest division U9-U10 we will implement build-out line. \nhttps://www.clubohiosoccer.com/tournaments/club_ohio_fall_classic
URL:https://soccermomsanddads.com/event/club-ohio-fall-classic-2023/
CATEGORIES:Ohio
ATTACH;FMTTYPE=image/png:https://soccermomsanddads.com/wp-content/uploads/2026/02/b6ca7e_33bc7afe2b7a4398bb5567b25b5df69fmv2.png
END:VEVENT
BEGIN:VEVENT
DTSTART;VALUE=DATE:20251115
DTEND;VALUE=DATE:20251117
DTSTAMP:20260424T233809
CREATED:20260213T233904Z
LAST-MODIFIED:20260214T113608Z
UID:10000091-1763164800-1763337599@soccermomsanddads.com
SUMMARY:Nation's Capital Cup Girl's Weekend
DESCRIPTION:Girl’s U9-U19 \nhttps://elitetournaments.com/tournaments/
URL:https://soccermomsanddads.com/event/nations-capital-cup-girls-weekend/
ATTACH;FMTTYPE=image/jpeg:https://soccermomsanddads.com/wp-content/uploads/2026/02/GettyImages-1266314760-1.jpg
END:VEVENT
BEGIN:VEVENT
DTSTART;VALUE=DATE:20251115
DTEND;VALUE=DATE:20251117
DTSTAMP:20260424T233809
CREATED:20260213T234004Z
LAST-MODIFIED:20260214T113534Z
UID:10000092-1763164800-1763337599@soccermomsanddads.com
SUMMARY:Columbia Fall Classic Boy's Weekend
DESCRIPTION:Boys U8-U19 \nhttps://elitetournaments.com/tournaments/
URL:https://soccermomsanddads.com/event/columbia-fall-classic-boys-weekend/
ATTACH;FMTTYPE=image/jpeg:https://soccermomsanddads.com/wp-content/uploads/2026/02/GettyImages-1277406971-1.jpg
END:VEVENT
BEGIN:VEVENT
DTSTART;VALUE=DATE:20251121
DTEND;VALUE=DATE:20251124
DTSTAMP:20260424T233809
CREATED:20260213T234209Z
LAST-MODIFIED:20260213T234209Z
UID:10000093-1763683200-1763942399@soccermomsanddads.com
SUMMARY:Great Lakes Fall College Showcase
DESCRIPTION:There will be Premier and Championship flights for all age groups. All teams will play 3 games. All games will be 80 minute games. Premier College Combine Saturday evening for individual players. \nhttps://greatlakestournaments.com/2024/05/02/gl-fall-showcase/
URL:https://soccermomsanddads.com/event/great-lakes-fall-college-showcase/
CATEGORIES:Ohio
ATTACH;FMTTYPE=image/png:https://soccermomsanddads.com/wp-content/uploads/2026/02/LOGO-GREAT-LAKES-COLLEGE-FINAL-03-2048x2048-1.png
END:VEVENT
BEGIN:VEVENT
DTSTART;VALUE=DATE:20251122
DTEND;VALUE=DATE:20251124
DTSTAMP:20260424T233809
CREATED:20260213T234355Z
LAST-MODIFIED:20260213T234355Z
UID:10000094-1763769600-1763942399@soccermomsanddads.com
SUMMARY:Cincinnati Futsal Cup
DESCRIPTION:Kick off the season with meaningful preseason competition\, experienced officials and a high level of futsal. Held at Queen City Sportsplex. Open to all 2007-2018 girls\, boys and adult divisions. Team Fee: $400 before November 1st. \nhttps://events.teamsnap.com/organizations/25650
URL:https://soccermomsanddads.com/event/cincinnati-futsal-cup/
CATEGORIES:Ohio
ATTACH;FMTTYPE=image/png:https://soccermomsanddads.com/wp-content/uploads/2026/02/b6ca7e_26e51ced100244eca8e2dd66a8eab80dmv2.png
END:VEVENT
BEGIN:VEVENT
DTSTART;VALUE=DATE:20251122
DTEND;VALUE=DATE:20251124
DTSTAMP:20260424T233809
CREATED:20260213T234454Z
LAST-MODIFIED:20260214T113540Z
UID:10000095-1763769600-1763942399@soccermomsanddads.com
SUMMARY:Columbia Fall Classic Girl's Weekend
DESCRIPTION:Girls U8-U19 \nhttps://elitetournaments.com/tournaments/
URL:https://soccermomsanddads.com/event/columbia-fall-classic-girls-weekend/
ATTACH;FMTTYPE=image/jpeg:https://soccermomsanddads.com/wp-content/uploads/2026/02/GettyImages-1321839472-1.jpg
END:VEVENT
BEGIN:VEVENT
DTSTART;VALUE=DATE:20251122
DTEND;VALUE=DATE:20251124
DTSTAMP:20260424T233809
CREATED:20260213T234623Z
LAST-MODIFIED:20260214T113540Z
UID:10000096-1763769600-1763942399@soccermomsanddads.com
SUMMARY:Nation's Capital Cup Boy's Weekend
DESCRIPTION:Boys U9-U19 \nhttps://elitetournaments.com/tournaments/
URL:https://soccermomsanddads.com/event/nations-capital-cup-boys-weekend/
ATTACH;FMTTYPE=image/jpeg:https://soccermomsanddads.com/wp-content/uploads/2026/02/GettyImages-1321839486-1.jpg
END:VEVENT
BEGIN:VEVENT
DTSTART;VALUE=DATE:20251128
DTEND;VALUE=DATE:20251129
DTSTAMP:20260424T233809
CREATED:20260213T234809Z
LAST-MODIFIED:20260213T234809Z
UID:10000097-1764288000-1764374399@soccermomsanddads.com
SUMMARY:Black Friday Stampede
DESCRIPTION:Boys and Girls U8-U19 With no school and a turkey-and-stuffing food coma to shake off\, Black Friday is a perfect day for futsal! Games are fast-paced and played 5v5 with goalies on hardwood courts. \nhttps://cincysc.com/tourneys/black-friday-stampede/
URL:https://soccermomsanddads.com/event/black-friday-stampede/
CATEGORIES:Ohio
ATTACH;FMTTYPE=image/jpeg:https://soccermomsanddads.com/wp-content/uploads/2026/02/Futsal-Stampede-Logo-brett.jpg
END:VEVENT
BEGIN:VEVENT
DTSTART;VALUE=DATE:20251128
DTEND;VALUE=DATE:20251129
DTSTAMP:20260424T233809
CREATED:20260213T235004Z
LAST-MODIFIED:20260213T235026Z
UID:10000098-1764288000-1764374399@soccermomsanddads.com
SUMMARY:Locker Soccer 3v3 Tournament
DESCRIPTION:Gather your team of four players or come solo and join a team – everyone is welcome! Registrations are individual\, and teams will be formed at the beginning of the tournament. It’s a fantastic way to meet new friends who share your passion for soccer. \nhttps://lockersoccer.com/3v3-tournaments/
URL:https://soccermomsanddads.com/event/locker-soccer-3v3-tournament/
CATEGORIES:Ohio
ATTACH;FMTTYPE=image/jpeg:https://soccermomsanddads.com/wp-content/uploads/2026/02/b6ca7e_381073c3c8614ef5b500e5bd432ba16bmv2.jpg
END:VEVENT
BEGIN:VEVENT
DTSTART;VALUE=DATE:20251230
DTEND;VALUE=DATE:20251231
DTSTAMP:20260424T233809
CREATED:20260213T235518Z
LAST-MODIFIED:20260213T235518Z
UID:10000101-1767052800-1767139199@soccermomsanddads.com
SUMMARY:Mistletoe Ball Coed Futsal Tourney
DESCRIPTION:The week between Christmas and New Years is always slow with no school\, slow days at work\, and lots of stored up holiday calories. Don’t hibernate! Play futsal in the world’s only all-coed futsal tourney (aka the Merriest Futsal Event of the Year). \nhttps://cincysc.com/tourneys/
URL:https://soccermomsanddads.com/event/mistletoe-ball-coed-futsal-tourney/
CATEGORIES:Ohio
ATTACH;FMTTYPE=image/jpeg:https://soccermomsanddads.com/wp-content/uploads/2026/02/MistletoeBallCoedLogo2023-200x200-1.jpg
END:VEVENT
BEGIN:VEVENT
DTSTART;VALUE=DATE:20260213
DTEND;VALUE=DATE:20260216
DTSTAMP:20260424T233809
CREATED:20260210T204539Z
LAST-MODIFIED:20260212T190514Z
UID:10000001-1770940800-1771199999@soccermomsanddads.com
SUMMARY:Stars Indoor Soccer Challenge
DESCRIPTION:Youth through adult divisions. \nhttps://starsindoorsports.com/stars-indoor-soccer-challenge/
URL:https://soccermomsanddads.com/event/stars-indoor-soccer-challenge/
CATEGORIES:Ohio
ATTACH;FMTTYPE=image/webp:https://soccermomsanddads.com/wp-content/uploads/2026/02/Soccer-Tournaments-12.webp
END:VEVENT
BEGIN:VEVENT
DTSTART;VALUE=DATE:20260213
DTEND;VALUE=DATE:20260216
DTSTAMP:20260424T233809
CREATED:20260210T210000Z
LAST-MODIFIED:20260212T190513Z
UID:10000008-1770940800-1771199999@soccermomsanddads.com
SUMMARY:ODU Turf Challenge (GIRLS)
DESCRIPTION:GIRLS Weekend 2-3 Fights/age group \nhttps://www.sportingcolumbus.com/club-events/odu-turf-challenge
URL:https://soccermomsanddads.com/event/odu-turf-challenge-girls/
CATEGORIES:Ohio
ATTACH;FMTTYPE=image/png:https://soccermomsanddads.com/wp-content/uploads/2026/02/ODU_TurfChallenge2026FNL.png
END:VEVENT
BEGIN:VEVENT
DTSTART;VALUE=DATE:20260214
DTEND;VALUE=DATE:20260216
DTSTAMP:20260424T233809
CREATED:20260210T204807Z
LAST-MODIFIED:20260212T190506Z
UID:10000002-1771027200-1771199999@soccermomsanddads.com
SUMMARY:Girls Cleveland Indoor Classic
DESCRIPTION:Girls U8-U13 – February 18\nGirls U14 & Up – February 19 \nhttps://greatlakestournaments.com/2024/05/02/2024-cle-indoor-classic/
URL:https://soccermomsanddads.com/event/girls-cleveland-indoor-classic/
CATEGORIES:Ohio
ATTACH;FMTTYPE=image/png:https://soccermomsanddads.com/wp-content/uploads/2026/02/CIC-2026-outlines_fin-dark-1-1024x1024-1.png
END:VEVENT
BEGIN:VEVENT
DTSTART;VALUE=DATE:20260216
DTEND;VALUE=DATE:20260217
DTSTAMP:20260424T233809
CREATED:20260210T205057Z
LAST-MODIFIED:20260212T190506Z
UID:10000003-1771200000-1771286399@soccermomsanddads.com
SUMMARY:President's Day Rush Futsal Tourney
DESCRIPTION:Games are played on a small court with 5 players per side. Schedules are designed with moms and dads in mind: there’s not a ton of time between games so you won’t be waiting around all day. What better way to spend a snowy Monday off from school than by playing futsal! \nhttps://cincysc.com/tourneys/presidents-day-rush/
URL:https://soccermomsanddads.com/event/presidents-day-rush-futsal-tourney/
CATEGORIES:Ohio
ATTACH;FMTTYPE=image/jpeg:https://soccermomsanddads.com/wp-content/uploads/2026/02/FutsalRushLogo.jpg
END:VEVENT
BEGIN:VEVENT
DTSTART;VALUE=DATE:20260220
DTEND;VALUE=DATE:20260223
DTSTAMP:20260424T233809
CREATED:20260210T205329Z
LAST-MODIFIED:20260214T113428Z
UID:10000004-1771545600-1771804799@soccermomsanddads.com
SUMMARY:Ohio Elite Girls College & Junior Showcase
DESCRIPTION:3 games | Saturday & Sunday (U11-U14) | Friday\, Saturday\, & Sunday (U15-U19)
URL:https://soccermomsanddads.com/event/ohio-elite-girls-college-junior-showcase/
CATEGORIES:Ohio
ATTACH;FMTTYPE=image/jpeg:https://soccermomsanddads.com/wp-content/uploads/2026/02/GettyImages-641140048-1.jpg
END:VEVENT
BEGIN:VEVENT
DTSTART;VALUE=DATE:20260228
DTEND;VALUE=DATE:20260301
DTSTAMP:20260424T233809
CREATED:20260210T205430Z
LAST-MODIFIED:20260214T113454Z
UID:10000005-1772236800-1772323199@soccermomsanddads.com
SUMMARY:2026 Boys College & Junior Showcase
DESCRIPTION:
URL:https://soccermomsanddads.com/event/2026-boys-college-junior-showcase/
CATEGORIES:Ohio
ATTACH;FMTTYPE=image/jpeg:https://soccermomsanddads.com/wp-content/uploads/2026/02/GettyImages-641140162-1.jpg
END:VEVENT
BEGIN:VEVENT
DTSTART;VALUE=DATE:20260301
DTEND;VALUE=DATE:20260302
DTSTAMP:20260424T233809
CREATED:20260210T205610Z
LAST-MODIFIED:20260212T190437Z
UID:10000006-1772323200-1772409599@soccermomsanddads.com
SUMMARY:House of Goals: Street to Stadium Kickoff
DESCRIPTION:This isn’t a traditional tournament. It’s a movement\, a kickoff\, and a celebration of the game at every level. Enjoyment for all ages and skill levels: Free Youth Clinic (Ages 7–12) U8 | U10 | U12 | U14 High School Adult (18+). \nhttps://www.columbusfutsal.us/tournaments
URL:https://soccermomsanddads.com/event/house-of-goals-street-to-stadium-kickoff/
CATEGORIES:Ohio
ATTACH;FMTTYPE=image/avif:https://soccermomsanddads.com/wp-content/uploads/2026/02/27f6a5_f74c7984703247448407d9cd23546b9cmv2.avif
END:VEVENT
BEGIN:VEVENT
DTSTART;VALUE=DATE:20260306
DTEND;VALUE=DATE:20260309
DTSTAMP:20260424T233809
CREATED:20260210T205833Z
LAST-MODIFIED:20260212T190431Z
UID:10000007-1772755200-1773014399@soccermomsanddads.com
SUMMARY:Ohio Galaxies College Showcase
DESCRIPTION:March 6 – 8\, 2026 Boys u15 – u19 – Showcase Format Girls u15 – u19 – Showcase Format Application Deadline – February 1\, 2026 Application Fee – $995 We are pleased to invite your team to attend our Ohio Galaxies Showcase! Our showcase event is designed to provide participants with appropriate competition for the start of your spring season. Click here for more information about our event. \nhttps://ohiogalaxiesboysshowcase.com/
URL:https://soccermomsanddads.com/event/ohio-galaxies-college-showcase/
CATEGORIES:Ohio
ATTACH;FMTTYPE=image/png:https://soccermomsanddads.com/wp-content/uploads/2026/02/Screenshot-2026-02-11-022659.png
END:VEVENT
BEGIN:VEVENT
DTSTART;TZID=America/New_York:20260313T090000
DTEND;TZID=America/New_York:20260315T170000
DTSTAMP:20260424T233809
CREATED:20260210T210143Z
LAST-MODIFIED:20260212T185759Z
UID:10000009-1773392400-1773594000@soccermomsanddads.com
SUMMARY:Spring Turf Fest
DESCRIPTION:Girls and Boys – u11 – u19 \nApplication Deadline – February 15\, 2026\nApplication Fee: u11 – u12 – $850\nApplication Fee: u13-u14 – $900\nApplication Fee – u15 – u19 – $950 \nWe are pleased to invite your team to attend our Spring Turf Fest! Our showcase events are designed to provide participants with appropriate competition for the start of your spring season. \nhttps://www.springturffest.com/
URL:https://soccermomsanddads.com/event/spring-turf-fest/
CATEGORIES:Ohio
ATTACH;FMTTYPE=image/png:https://soccermomsanddads.com/wp-content/uploads/2026/02/m.png
END:VEVENT
BEGIN:VEVENT
DTSTART;VALUE=DATE:20260320
DTEND;VALUE=DATE:20260323
DTSTAMP:20260424T233809
CREATED:20260210T210324Z
LAST-MODIFIED:20260214T025719Z
UID:10000010-1773964800-1774223999@soccermomsanddads.com
SUMMARY:ODU Turf Challenge (BOYS)
DESCRIPTION:*BOYS Weekend 2-3 Flights/Age Group \nhttps://odutc.tourneycentral.com/
URL:https://soccermomsanddads.com/event/odu-turf-challenge-boys/
CATEGORIES:Ohio
ATTACH;FMTTYPE=image/jpeg:https://soccermomsanddads.com/wp-content/uploads/2026/02/GettyImages-976595466-1.jpg
END:VEVENT
BEGIN:VEVENT
DTSTART;VALUE=DATE:20260328
DTEND;VALUE=DATE:20260330
DTSTAMP:20260424T233809
CREATED:20260210T210507Z
LAST-MODIFIED:20260212T190422Z
UID:10000011-1774656000-1774828799@soccermomsanddads.com
SUMMARY:Great Lakes Spring College Showcase
DESCRIPTION:Boys and Girls U14-U19 \nhttps://greatlakestournaments.com/2024/04/24/gl-spring-showcase/
URL:https://soccermomsanddads.com/event/great-lakes-spring-college-showcase/
CATEGORIES:Ohio
ATTACH;FMTTYPE=image/png:https://soccermomsanddads.com/wp-content/uploads/2026/02/LOGO-GREAT-LAKES-COLLEGE-FINAL-03-2048x2048-1-1024x1024-1.png
END:VEVENT
BEGIN:VEVENT
DTSTART;VALUE=DATE:20260328
DTEND;VALUE=DATE:20260330
DTSTAMP:20260424T233809
CREATED:20260210T210709Z
LAST-MODIFIED:20260212T190413Z
UID:10000012-1774656000-1774828799@soccermomsanddads.com
SUMMARY:United Spring Turf Challenge - Boys Weekend
DESCRIPTION:7v7 Boys Weekend all games on turf \nhttps://barcelonaunited.demosphere-secure.com/tournaments/united-spring-turf-challenge
URL:https://soccermomsanddads.com/event/united-spring-turf-challenge-boys-weekend/
CATEGORIES:Ohio
ATTACH;FMTTYPE=image/jpeg:https://soccermomsanddads.com/wp-content/uploads/2026/02/Fortress-Overhead-Image.jpg
END:VEVENT
BEGIN:VEVENT
DTSTART;VALUE=DATE:20260410
DTEND;VALUE=DATE:20260413
DTSTAMP:20260424T233809
CREATED:20260210T210950Z
LAST-MODIFIED:20260212T190623Z
UID:10000013-1775779200-1776038399@soccermomsanddads.com
SUMMARY:Spring Challenge
DESCRIPTION:All Games Played on Turf\nMultiple Division Available\nU8\, U9 and U10 – 7v7 \nU11 and U12 – 9v9 \nU13 through U15- 11v11 \nhttps://greatlakestournaments.com/2024/05/02/spring-challenge/
URL:https://soccermomsanddads.com/event/spring-challenge/
CATEGORIES:Ohio
ATTACH;FMTTYPE=image/png:https://soccermomsanddads.com/wp-content/uploads/2026/02/LOGO-GREAT-LAKES-SPRING-CHALLENGE-FINAL-01-1024x1024-1.png
END:VEVENT
BEGIN:VEVENT
DTSTART;VALUE=DATE:20260410
DTEND;VALUE=DATE:20260413
DTSTAMP:20260424T233809
CREATED:20260210T211212Z
LAST-MODIFIED:20260212T190645Z
UID:10000014-1775779200-1776038399@soccermomsanddads.com
SUMMARY:Elite Invitational
DESCRIPTION:The Elite Invitational was conceived as a get-together of a handful of selected teams\, with only a few being from the Cincinnati area. Now\, it has become the”go-to” spring competition. \nhttps://cincinnatiunitedsc.gotsportsites.com/eliteinvitational/
URL:https://soccermomsanddads.com/event/elite-invitational/
CATEGORIES:Ohio
ATTACH;FMTTYPE=image/webp:https://soccermomsanddads.com/wp-content/uploads/2026/02/Elite-Invitational-Thumbnail-V1.webp
END:VEVENT
BEGIN:VEVENT
DTSTART;VALUE=DATE:20260411
DTEND;VALUE=DATE:20260413
DTSTAMP:20260424T233809
CREATED:20260210T211417Z
LAST-MODIFIED:20260212T190743Z
UID:10000016-1775865600-1776038399@soccermomsanddads.com
SUMMARY:United Spring Turf Challenge
DESCRIPTION:Girls 7v7 Weekend\, all games on turf. \nhttps://barcelonaunited.demosphere-secure.com/tournaments/united-spring-turf-challenge
URL:https://soccermomsanddads.com/event/united-spring-turf-challenge/
CATEGORIES:Ohio
ATTACH;FMTTYPE=image/jpeg:https://soccermomsanddads.com/wp-content/uploads/2026/02/Fortress-Overhead-Image.jpg
END:VEVENT
BEGIN:VEVENT
DTSTART;VALUE=DATE:20260418
DTEND;VALUE=DATE:20260420
DTSTAMP:20260424T233809
CREATED:20260210T211300Z
LAST-MODIFIED:20260214T113442Z
UID:10000015-1776470400-1776643199@soccermomsanddads.com
SUMMARY:Nike Challenge Cup Girls' Weekend
DESCRIPTION:
URL:https://soccermomsanddads.com/event/nike-challenge-cup-girls-weekend/
CATEGORIES:Ohio
ATTACH;FMTTYPE=image/jpeg:https://soccermomsanddads.com/wp-content/uploads/2026/02/GettyImages-2148752802-1.jpg
END:VEVENT
BEGIN:VEVENT
DTSTART;VALUE=DATE:20260425
DTEND;VALUE=DATE:20260427
DTSTAMP:20260424T233809
CREATED:20260210T211513Z
LAST-MODIFIED:20260214T113447Z
UID:10000017-1777075200-1777247999@soccermomsanddads.com
SUMMARY:Nike Challenge Cup Boys Weekend
DESCRIPTION:
URL:https://soccermomsanddads.com/event/nike-challenge-cup-boys-weekend/
CATEGORIES:Ohio
ATTACH;FMTTYPE=image/jpeg:https://soccermomsanddads.com/wp-content/uploads/2026/02/GettyImages-687086072-1.jpg
END:VEVENT
BEGIN:VEVENT
DTSTART;VALUE=DATE:20260425
DTEND;VALUE=DATE:20260427
DTSTAMP:20260424T233809
CREATED:20260210T211644Z
LAST-MODIFIED:20260212T190810Z
UID:10000018-1777075200-1777247999@soccermomsanddads.com
SUMMARY:Epic Cup Girls Weekend
DESCRIPTION:Started in 2016\, The EPIC Cup has grown into one of the biggest and most loved tournaments in the Midwest. Participants compete for the chance for their team to hoist the #LargestTrophyKnownToMankind that stands over 50″ tall and weighs 52 lbs. Players get mementos like a tournament patch\, bag tag\, or keychain\, and cool prizes at Tourney HQ. The tournament is held annually in Oxford\, OH\, mainly at Oxford Community Park\, home to pristine grass fields and just a mile down the road from Miami University and downtown Oxford. \nhttps://cincysc.com/tourneys/the-epic-cup/
URL:https://soccermomsanddads.com/event/epic-cup-girls-weekend/
CATEGORIES:Ohio
ATTACH;FMTTYPE=image/jpeg:https://soccermomsanddads.com/wp-content/uploads/2026/02/WebsiteBannerEpicCup2026NB.jpg
END:VEVENT
BEGIN:VEVENT
DTSTART;VALUE=DATE:20260501
DTEND;VALUE=DATE:20260504
DTSTAMP:20260424T233809
CREATED:20260210T211848Z
LAST-MODIFIED:20260212T190833Z
UID:10000019-1777593600-1777852799@soccermomsanddads.com
SUMMARY:Buckeye Cup
DESCRIPTION:U8\, U9 & U10 (7v7) – $575; U11 & U12 (9v9) – $625; U13\, U14 & U15 (11v11) – $675 \nhttps://buckeyecup.com/about.html
URL:https://soccermomsanddads.com/event/buckeye-cup/
CATEGORIES:Ohio
ATTACH;FMTTYPE=image/png:https://soccermomsanddads.com/wp-content/uploads/2026/02/Screenshot-2026-02-11-024822.png
END:VEVENT
END:VCALENDAR