BEGIN:VCALENDAR
VERSION:2.0
PRODID:-//Ohio Soccer Moms and Dads - ECPv6.15.20//NONSGML v1.0//EN
CALSCALE:GREGORIAN
METHOD:PUBLISH
X-ORIGINAL-URL:https://soccermomsanddads.com
X-WR-CALDESC:Events for Ohio Soccer Moms and Dads
REFRESH-INTERVAL;VALUE=DURATION:PT1H
X-Robots-Tag:noindex
X-PUBLISHED-TTL:PT1H
BEGIN:VTIMEZONE
TZID:America/New_York
BEGIN:DAYLIGHT
TZOFFSETFROM:-0500
TZOFFSETTO:-0400
TZNAME:EDT
DTSTART:20250309T070000
END:DAYLIGHT
BEGIN:STANDARD
TZOFFSETFROM:-0400
TZOFFSETTO:-0500
TZNAME:EST
DTSTART:20251102T060000
END:STANDARD
BEGIN:DAYLIGHT
TZOFFSETFROM:-0500
TZOFFSETTO:-0400
TZNAME:EDT
DTSTART:20260308T070000
END:DAYLIGHT
BEGIN:STANDARD
TZOFFSETFROM:-0400
TZOFFSETTO:-0500
TZNAME:EST
DTSTART:20261101T060000
END:STANDARD
BEGIN:DAYLIGHT
TZOFFSETFROM:-0500
TZOFFSETTO:-0400
TZNAME:EDT
DTSTART:20270314T070000
END:DAYLIGHT
BEGIN:STANDARD
TZOFFSETFROM:-0400
TZOFFSETTO:-0500
TZNAME:EST
DTSTART:20271107T060000
END:STANDARD
END:VTIMEZONE
BEGIN:VEVENT
DTSTART;VALUE=DATE:20260515
DTEND;VALUE=DATE:20260518
DTSTAMP:20260424T223205
CREATED:20260210T212704Z
LAST-MODIFIED:20260212T191306Z
UID:10000024-1778803200-1779062399@soccermomsanddads.com
SUMMARY:TFA United Cup
DESCRIPTION:Registration Deadline: 4/24\nEarly Bird Registration Deadline ($50 off): 3/1 \nhttps://www.tfacincinnati.com/UnitedCup
URL:https://soccermomsanddads.com/event/tfa-united-cup/
CATEGORIES:Ohio
ATTACH;FMTTYPE=image/webp:https://soccermomsanddads.com/wp-content/uploads/2026/02/033025B16PremiervsB17Elite-17-1920w.webp
END:VEVENT
BEGIN:VEVENT
DTSTART;VALUE=DATE:20260516
DTEND;VALUE=DATE:20260518
DTSTAMP:20260424T223205
CREATED:20260210T212902Z
LAST-MODIFIED:20260212T191328Z
UID:10000025-1778889600-1779062399@soccermomsanddads.com
SUMMARY:Tri-State State Cup
DESCRIPTION:All New York and Pennsylvania teams will be all eligible to enter. You do not have to play in a qualifying league to participate in this open US Club event. \nTeams that are not currently carded with US Club Soccer can easily do so prior to competing in The Western NY and Western PA State Cup. \nFormat: Traditional Round Robin play with Championship Games\nWinners of the U13 and Older brackets advance to the Competition of National Cup XXIII Midwest Regional at Waukegan / Libertyville\, Ill. June 2025 \nhttps://greatlakestournaments.com/2024/05/02/tri-state-state-cup/
URL:https://soccermomsanddads.com/event/tri-state-state-cup/
CATEGORIES:Pennsylvania
ATTACH;FMTTYPE=image/png:https://soccermomsanddads.com/wp-content/uploads/2026/02/Tri-State_Cup_logo__no_year___1__large-296x450-1.png
END:VEVENT
BEGIN:VEVENT
DTSTART;VALUE=DATE:20260516
DTEND;VALUE=DATE:20260518
DTSTAMP:20260424T223205
CREATED:20260210T213010Z
LAST-MODIFIED:20260212T191352Z
UID:10000026-1778889600-1779062399@soccermomsanddads.com
SUMMARY:Epic Cup - Jr. Edition
DESCRIPTION:Jr Edition: 5/16 (Girls) & 5/17 (Boys) \nhttps://cincysc.com/tourneys/the-epic-cup/
URL:https://soccermomsanddads.com/event/epic-cup-jr-edition/
CATEGORIES:Ohio
ATTACH;FMTTYPE=image/jpeg:https://soccermomsanddads.com/wp-content/uploads/2026/02/WebsiteBannerEpicCup2026NB.jpg
END:VEVENT
BEGIN:VEVENT
DTSTART;VALUE=DATE:20260522
DTEND;VALUE=DATE:20260525
DTSTAMP:20260424T223205
CREATED:20260210T213424Z
LAST-MODIFIED:20260212T191429Z
UID:10000028-1779408000-1779667199@soccermomsanddads.com
SUMMARY:Warrior Memorial  Day Classic
DESCRIPTION:Boys & Girls U8-U19 \nhttps://wsc.tourneycentral.com/
URL:https://soccermomsanddads.com/event/warrior-memorial-day-classic/
CATEGORIES:Ohio
ATTACH;FMTTYPE=image/png:https://soccermomsanddads.com/wp-content/uploads/2026/02/Screenshot-2026-02-11-030353.png
END:VEVENT
BEGIN:VEVENT
DTSTART;VALUE=DATE:20260523
DTEND;VALUE=DATE:20260601
DTSTAMP:20260424T223205
CREATED:20260210T213145Z
LAST-MODIFIED:20260212T191506Z
UID:10000027-1779494400-1780271999@soccermomsanddads.com
SUMMARY:USYS The Ohio State Cup 2025
DESCRIPTION:2026 State Cup Dates\nMay 23-25 Round Robin\nMay 29-May 31 Semis and Finals\nJune 5-7 Rain Date\nJuly 13-23 NCS Nationals (Girls in Murfreesboro\, TN and Boys in Salt Lake City\, UT ) \nhttps://ohio-soccer.org/cup-series/state-cup/
URL:https://soccermomsanddads.com/event/usys-the-ohio-state-cup-2025/
CATEGORIES:Ohio
ATTACH;FMTTYPE=image/webp:https://soccermomsanddads.com/wp-content/uploads/2026/02/USYS_Ohio_SC_RGB_DBG2.webp
END:VEVENT
BEGIN:VEVENT
DTSTART;VALUE=DATE:20260530
DTEND;VALUE=DATE:20260601
DTSTAMP:20260424T223205
CREATED:20260210T214020Z
LAST-MODIFIED:20260212T191534Z
UID:10000031-1780099200-1780271999@soccermomsanddads.com
SUMMARY:Creek Classic
DESCRIPTION:https://www.creekclassic.com/
URL:https://soccermomsanddads.com/event/creek-classic/
CATEGORIES:Ohio
ATTACH;FMTTYPE=image/png:https://soccermomsanddads.com/wp-content/uploads/2026/02/Screenshot-2026-02-11-030912.png
END:VEVENT
BEGIN:VEVENT
DTSTART;VALUE=DATE:20260530
DTEND;VALUE=DATE:20260601
DTSTAMP:20260424T223205
CREATED:20260210T214201Z
LAST-MODIFIED:20260212T191601Z
UID:10000032-1780099200-1780271999@soccermomsanddads.com
SUMMARY:ORL Season Finale
DESCRIPTION:Powered by The Ohio River League\nErie Sports Center\n8155 Oliver Rd South\nErie\,PA 16509\nMay 30-31\,2026\nBoys & Girls Age Groups:U9 to U15\nClick Here to Register\nU9 to U12 Cost: $375\nU13 to U15 Cost: $550 \nhttps://greatlakestournaments.com/orl-season-finale/
URL:https://soccermomsanddads.com/event/orl-season-finale/
CATEGORIES:Pennsylvania
ATTACH;FMTTYPE=image/png:https://soccermomsanddads.com/wp-content/uploads/2026/02/OHIO-RIVER-LOGO-season-finale-cropped-300x277-1.png
END:VEVENT
BEGIN:VEVENT
DTSTART;VALUE=DATE:20260601
DTEND;VALUE=DATE:20260701
DTSTAMP:20260424T223205
CREATED:20260210T214331Z
LAST-MODIFIED:20260212T191623Z
UID:10000033-1780272000-1782863999@soccermomsanddads.com
SUMMARY:Lancaster Summer Classic
DESCRIPTION:Boys & Girls U9-U19 \nhttps://elitetournaments.com/tournaments/lancaster-summer-classic/
URL:https://soccermomsanddads.com/event/lancaster-summer-classic/
CATEGORIES:Pennsylvania
ATTACH;FMTTYPE=image/png:https://soccermomsanddads.com/wp-content/uploads/2026/02/LancasterSummer26.png
END:VEVENT
BEGIN:VEVENT
DTSTART;VALUE=DATE:20260601
DTEND;VALUE=DATE:20260701
DTSTAMP:20260424T223205
CREATED:20260210T214601Z
LAST-MODIFIED:20260212T191648Z
UID:10000034-1780272000-1782863999@soccermomsanddads.com
SUMMARY:Mason Dixon Cup
DESCRIPTION:Boys & Girls U8-U19 \nhttps://elitetournaments.com/tournaments/mason-dixon-cup/
URL:https://soccermomsanddads.com/event/mason-dixon-cup/
CATEGORIES:Ohio
ATTACH;FMTTYPE=image/jpeg:https://soccermomsanddads.com/wp-content/uploads/2026/02/imgi_38_eduardo-flores-tOdS_OYdnKA-unsplash-scaled-1.jpg
END:VEVENT
BEGIN:VEVENT
DTSTART;VALUE=DATE:20260627
DTEND;VALUE=DATE:20260628
DTSTAMP:20260424T223205
CREATED:20260210T214711Z
LAST-MODIFIED:20260212T191709Z
UID:10000035-1782518400-1782604799@soccermomsanddads.com
SUMMARY:Founder's Cup Street Tournament
DESCRIPTION:Columbus Futsal’s 20th Anniversary Celebration 4v4 rush street event -youth and adult. \nhttps://www.columbusfutsal.us/tournaments
URL:https://soccermomsanddads.com/event/founders-cup-street-tournament/
CATEGORIES:Ohio
ATTACH;FMTTYPE=image/avif:https://soccermomsanddads.com/wp-content/uploads/2026/02/27f6a5_f74c7984703247448407d9cd23546b9cmv2.avif
END:VEVENT
BEGIN:VEVENT
DTSTART;VALUE=DATE:20260627
DTEND;VALUE=DATE:20260628
DTSTAMP:20260424T223205
CREATED:20260210T214917Z
LAST-MODIFIED:20260212T191733Z
UID:10000036-1782518400-1782604799@soccermomsanddads.com
SUMMARY:CSA Turf Wars
DESCRIPTION:Boys & Girls U6 – U14. \nhttps://airpitchusa.com/csa3v3-delaware-ohio-soccer
URL:https://soccermomsanddads.com/event/csa-turf-wars/
CATEGORIES:Ohio
ATTACH;FMTTYPE=image/webp:https://soccermomsanddads.com/wp-content/uploads/2026/02/imgi_24_022026_Delaware_OH_W.png.webp
END:VEVENT
BEGIN:VEVENT
DTSTART;VALUE=DATE:20260701
DTEND;VALUE=DATE:20260801
DTSTAMP:20260424T223205
CREATED:20260210T215210Z
LAST-MODIFIED:20260210T215709Z
UID:10000038-1782864000-1785542399@soccermomsanddads.com
SUMMARY:Columbus Nations Cup
DESCRIPTION:
URL:https://soccermomsanddads.com/event/columbus-nations-cup/
CATEGORIES:Ohio
ATTACH;FMTTYPE=image/jpeg:https://soccermomsanddads.com/wp-content/uploads/2026/02/b6ca7e_5706f730e8364f62b9f5c91e62246a2dmv2.jpg
END:VEVENT
BEGIN:VEVENT
DTSTART;VALUE=DATE:20260701
DTEND;VALUE=DATE:20260801
DTSTAMP:20260424T223205
CREATED:20260210T215551Z
LAST-MODIFIED:20260210T215551Z
UID:10000040-1782864000-1785542399@soccermomsanddads.com
SUMMARY:Elite Girls HS Invitational Presented by Nike
DESCRIPTION:This event is a pre-season event featuring top high school and club teams. In addition to games\, the event will feature showcase games\, college recruiting information and more.
URL:https://soccermomsanddads.com/event/elite-girls-hs-invitational-presented-by-nike/
CATEGORIES:Ohio
ATTACH;FMTTYPE=image/jpeg:https://soccermomsanddads.com/wp-content/uploads/2026/02/b6ca7e_8a61265b0f3947639ab825d41e6ee619mv2.jpg
END:VEVENT
BEGIN:VEVENT
DTSTART;VALUE=DATE:20260701
DTEND;VALUE=DATE:20260801
DTSTAMP:20260424T223205
CREATED:20260212T193645Z
LAST-MODIFIED:20260214T113447Z
UID:10000041-1782864000-1785542399@soccermomsanddads.com
SUMMARY:Color Blast 5v5 1-Day Soccer Tournament
DESCRIPTION:u6-u17 Boys and Girls. Contact Club for more details.
URL:https://soccermomsanddads.com/event/color-blast-5v5-1-day-soccer-tournament/
CATEGORIES:Ohio
ATTACH;FMTTYPE=image/jpeg:https://soccermomsanddads.com/wp-content/uploads/2026/02/GettyImages-687236522-1.jpg
END:VEVENT
BEGIN:VEVENT
DTSTART;VALUE=DATE:20260701
DTEND;VALUE=DATE:20260801
DTSTAMP:20260424T223205
CREATED:20260212T193734Z
LAST-MODIFIED:20260214T113552Z
UID:10000042-1782864000-1785542399@soccermomsanddads.com
SUMMARY:The Geauga Tournament
DESCRIPTION:Contact GFSC for Registration Information
URL:https://soccermomsanddads.com/event/the-geauga-tournament/
CATEGORIES:Ohio
ATTACH;FMTTYPE=image/jpeg:https://soccermomsanddads.com/wp-content/uploads/2026/02/GettyImages-687414628-1.jpg
END:VEVENT
BEGIN:VEVENT
DTSTART;VALUE=DATE:20260701
DTEND;VALUE=DATE:20260801
DTSTAMP:20260424T223205
CREATED:20260212T195013Z
LAST-MODIFIED:20260212T195013Z
UID:10000044-1782864000-1785542399@soccermomsanddads.com
SUMMARY:7v7 Colonial Classic Soccer Tournament
DESCRIPTION:It’s a boys and girls tournament for teams aged U9-U12. All players get free tickets to see the Pittsburgh Riverhounds on 7/27.
URL:https://soccermomsanddads.com/event/7v7-colonial-classic-soccer-tournament/
CATEGORIES:Pennsylvania
ATTACH;FMTTYPE=image/png:https://soccermomsanddads.com/wp-content/uploads/2026/02/b6ca7e_5092be20124f4795bfd05f3ca06592b3mv2.png
END:VEVENT
BEGIN:VEVENT
DTSTART;VALUE=DATE:20260701
DTEND;VALUE=DATE:20260801
DTSTAMP:20260424T223205
CREATED:20260212T195425Z
LAST-MODIFIED:20260212T195425Z
UID:10000045-1782864000-1785542399@soccermomsanddads.com
SUMMARY:TFA 3v3 Goal Rush
DESCRIPTION:Teams are guaranteed 4 games in a single day event format. Girls Saturday & Boys Sunday Registration: $200 per team + $20 GotSport fee Deadline: 6/30. \nhttps://www.tfacincinnati.com/tournaments
URL:https://soccermomsanddads.com/event/tfa-3v3-goal-rush/
ATTACH;FMTTYPE=image/webp:https://soccermomsanddads.com/wp-content/uploads/2026/02/3v3-Goal-Rush-Logo-1920w.webp
END:VEVENT
BEGIN:VEVENT
DTSTART;VALUE=DATE:20260701
DTEND;VALUE=DATE:20260801
DTSTAMP:20260424T223205
CREATED:20260212T195532Z
LAST-MODIFIED:20260212T195532Z
UID:10000046-1782864000-1785542399@soccermomsanddads.com
SUMMARY:Elite Boys HS Invitational Presented by Nike
DESCRIPTION:This event is a pre-season event featuring top high school teams. In addition to games\, the event will feature college recruiting information and more.
URL:https://soccermomsanddads.com/event/elite-boys-hs-invitational-presented-by-nike/
CATEGORIES:Ohio
ATTACH;FMTTYPE=image/jpeg:https://soccermomsanddads.com/wp-content/uploads/2026/02/b6ca7e_8a61265b0f3947639ab825d41e6ee619mv2.jpg
END:VEVENT
BEGIN:VEVENT
DTSTART;VALUE=DATE:20260701
DTEND;VALUE=DATE:20260801
DTSTAMP:20260424T223205
CREATED:20260213T221827Z
LAST-MODIFIED:20260213T221827Z
UID:10000052-1782864000-1785542399@soccermomsanddads.com
SUMMARY:EKG #8 Memorial Tournament
DESCRIPTION:Join us in celebrating the life and legacy of Emma Kathryn Gage\, a passionate soul whose kindness\, love for gaming\, adventure\, and hidden talent as an artist touched all who knew her. Emma’s untimely passing on August 20\, 2024\, left an unforgettable void\, but through the EKG#8 Memorial Foundation\, her spirit will continue to inspire. \nhttps://docs.google.com/forms/d/1bIdh4Z8lYowY9fcG-djD65HyF_bj3BFLvsDjk43PXxw/viewform?edit_requested=true
URL:https://soccermomsanddads.com/event/ekg-8-memorial-tournament/
CATEGORIES:Ohio
ATTACH;FMTTYPE=image/png:https://soccermomsanddads.com/wp-content/uploads/2026/02/b6ca7e_39c139e762064489a0664a4eafac1de8mv2.png
END:VEVENT
BEGIN:VEVENT
DTSTART;VALUE=DATE:20260711
DTEND;VALUE=DATE:20260712
DTSTAMP:20260424T223205
CREATED:20260210T215102Z
LAST-MODIFIED:20260212T191814Z
UID:10000037-1783728000-1783814399@soccermomsanddads.com
SUMMARY:Heatwave 3v3
DESCRIPTION:Youth through adult divisions. \nhttps://airpitchusa.com/cincinnatiohio-soccer-3v3-airpitch
URL:https://soccermomsanddads.com/event/heatwave-3v3/
CATEGORIES:Ohio
ATTACH;FMTTYPE=image/webp:https://soccermomsanddads.com/wp-content/uploads/2026/02/imgi_24_071126_Cincinnati_OH.png.webp
END:VEVENT
BEGIN:VEVENT
DTSTART;VALUE=DATE:20260718
DTEND;VALUE=DATE:20260719
DTSTAMP:20260424T223205
CREATED:20260210T215427Z
LAST-MODIFIED:20260212T191836Z
UID:10000039-1784332800-1784419199@soccermomsanddads.com
SUMMARY:Ankeney Summer 3v3 Shenanigans
DESCRIPTION:Youth through adult divisions. \nhttps://airpitchusa.com/beavercreekoh-soccer-3v3-ankeney
URL:https://soccermomsanddads.com/event/ankeney-summer-3v3-shenanigans/
CATEGORIES:Ohio
ATTACH;FMTTYPE=image/webp:https://soccermomsanddads.com/wp-content/uploads/2026/02/imgi_24_071826_Beavercreek_O.png.webp
END:VEVENT
BEGIN:VEVENT
DTSTART;VALUE=DATE:20260725
DTEND;VALUE=DATE:20260726
DTSTAMP:20260424T223205
CREATED:20260212T194754Z
LAST-MODIFIED:20260214T113509Z
UID:10000043-1784937600-1785023999@soccermomsanddads.com
SUMMARY:Columbus Cup 3v3
DESCRIPTION:Boys & Girls U6 – U14. \nhttps://airpitchusa.com/columbusoh-3v3soccer-airpitch
URL:https://soccermomsanddads.com/event/columbus-cup-3v3/
CATEGORIES:Ohio
ATTACH;FMTTYPE=image/png:https://soccermomsanddads.com/wp-content/uploads/2026/02/imgi_24_072526_Columbus_OH_W.png.png
END:VEVENT
BEGIN:VEVENT
DTSTART;VALUE=DATE:20260801
DTEND;VALUE=DATE:20260802
DTSTAMP:20260424T223205
CREATED:20260212T195807Z
LAST-MODIFIED:20260212T195807Z
UID:10000047-1785542400-1785628799@soccermomsanddads.com
SUMMARY:Premier 3v3 Cup
DESCRIPTION:Boys & Girls U8 – U12. \nhttps://airpitchusa.com/premier3v3-cincinnati-ohio-soccer
URL:https://soccermomsanddads.com/event/premier-3v3-cup/
CATEGORIES:Ohio
ATTACH;FMTTYPE=image/png:https://soccermomsanddads.com/wp-content/uploads/2026/02/b6ca7e_842919938e1a47968ea8c2d6cc5567a6mv2.png
END:VEVENT
BEGIN:VEVENT
DTSTART;VALUE=DATE:20260802
DTEND;VALUE=DATE:20260803
DTSTAMP:20260424T223205
CREATED:20260213T221437Z
LAST-MODIFIED:20260214T113600Z
UID:10000050-1785628800-1785715199@soccermomsanddads.com
SUMMARY:Columbus Cup 3v3
DESCRIPTION:U6-U12 Boys and Girls Middle School Boys and Girls The event will be played on the AirPitch Format used by Arsenal\, Manchester City\, and many TOP clubs around the world. Enjoy a unique\, non-stop-play environment with more dribbles\, more passes\, more intensity & more FUN! \nhttps://airpitchusa.com/columbus-oh-soccer-3v3-airpitch-tournament?fbclid=IwY2xjawKsBi1leHRuA2FlbQIxMABicmlkETFHenhPUUNuZjMwQTRhcmtMAR4mIi-Kt2ET_Wfa-s4U_xGBXTQAt7qVLUaRt1NsTWIXYXbUsors8GWwllTHIQ_aem_IoLsmeajVtu7xmit6AvrWw
URL:https://soccermomsanddads.com/event/columbus-cup-3v3-3/
CATEGORIES:Ohio
ATTACH;FMTTYPE=image/jpeg:https://soccermomsanddads.com/wp-content/uploads/2026/02/GettyImages-687421186-1.jpg
END:VEVENT
BEGIN:VEVENT
DTSTART;VALUE=DATE:20260802
DTEND;VALUE=DATE:20260803
DTSTAMP:20260424T223205
CREATED:20260213T221638Z
LAST-MODIFIED:20260213T221638Z
UID:10000051-1785628800-1785715199@soccermomsanddads.com
SUMMARY:ISC Color Explosion 5v5 Tournament
DESCRIPTION:ISC introduced the 5v5 Color Explosion Tournament in 2023\, and it continues to grow every year. A one day tournament\, we strive to make this a fun day of soccer for the entire family\, with food trucks\, our Free Family Fun Zone\, and our Color Explosion Resolute Athletic Complex Columbus\, Ohio Sporting Columbus U6-U12 Boys and Girls Middle School Boys and Girls celebrations. \nhttps://www.iscsoccer.org/events/5v5-color-explosion-tournament
URL:https://soccermomsanddads.com/event/isc-color-explosion-5v5-tournament-2/
ATTACH;FMTTYPE=image/png:https://soccermomsanddads.com/wp-content/uploads/2026/02/imgi_2_ColorExplosion-1.png
END:VEVENT
BEGIN:VEVENT
DTSTART;VALUE=DATE:20260828
DTEND;VALUE=DATE:20260831
DTSTAMP:20260424T223205
CREATED:20260213T223237Z
LAST-MODIFIED:20260213T223237Z
UID:10000060-1787875200-1788134399@soccermomsanddads.com
SUMMARY:Party on the Pitch
DESCRIPTION:Party on the Pitch has been a sell-out for the past 7 years. From 2015-2021\, 3\,500+ players\, ages 8-15\, from 228+ teams comprising more than 38 divisions converged on the Lebanon Sports Complex (Now hosted at the Warren County Sports Park) for a fun\, competitive weekend of soccer. \nhttps://partyonthepitch.tourneycentral.com/
URL:https://soccermomsanddads.com/event/party-on-the-pitch/
CATEGORIES:Ohio
ATTACH;FMTTYPE=image/jpeg:https://soccermomsanddads.com/wp-content/uploads/2026/02/POTPSHIRT1769254027.jpg
END:VEVENT
BEGIN:VEVENT
DTSTART;VALUE=DATE:20260911
DTEND;VALUE=DATE:20260914
DTSTAMP:20260424T223205
CREATED:20260213T225318Z
LAST-MODIFIED:20260213T225318Z
UID:10000067-1789084800-1789343999@soccermomsanddads.com
SUMMARY:Buckeye September Showdown
DESCRIPTION:The Buckeye September Showdown is proudly hosted by Cincinnati United SC and Tournament Guru Events. The event will be played on the combined 16 synthetic turf & well maintained grass fields of the Warren County Sports Park. Gold\, Silver\, and Bronze level Boys & Girls teams U8-U15 are invited to join us and experience high quality playing surfaces\, first class professional event management\, and a schedule designed for competitive balance\, development\, and fun! \nhttps://cincinnatiunitedsc.gotsportsites.com/buckeye-september-showdown/
URL:https://soccermomsanddads.com/event/buckeye-september-showdown/
CATEGORIES:Ohio
ATTACH;FMTTYPE=image/jpeg:https://soccermomsanddads.com/wp-content/uploads/2026/02/b6ca7e_ec410f4c72d84331bc6844f4513154acmv2.jpg
END:VEVENT
BEGIN:VEVENT
DTSTART;VALUE=DATE:20260919
DTEND;VALUE=DATE:20260922
DTSTAMP:20260424T223205
CREATED:20260213T230025Z
LAST-MODIFIED:20260213T230025Z
UID:10000072-1789776000-1790035199@soccermomsanddads.com
SUMMARY:Kolping SC 1931 Invitational
DESCRIPTION:U8-U19 Boys and Girls. \nhttps://kolpingsc.com/tournaments/
URL:https://soccermomsanddads.com/event/kolping-sc-1931-invitational/
CATEGORIES:Ohio
ATTACH;FMTTYPE=image/webp:https://soccermomsanddads.com/wp-content/uploads/2026/02/1931-Kolping-Invitiational-2025-logo.webp
END:VEVENT
BEGIN:VEVENT
DTSTART;VALUE=DATE:20260919
DTEND;VALUE=DATE:20260922
DTSTAMP:20260424T223205
CREATED:20260213T230352Z
LAST-MODIFIED:20260213T230352Z
UID:10000073-1789776000-1790035199@soccermomsanddads.com
SUMMARY:Dublin United Champions Cup
DESCRIPTION:U8-U15 Boys and Girls. A Great Tournament for Mid-Level Teams. A long history of 200+ teams meaning multiple divisions in nearly all age groups U-08 through U-15. A separate U-08 Division for both boys and girls assuming enough register. Modest Fee Structure. Coach-Friendly Scheduling. Nice Fields at Darree Fields in Dublin. High Quality Awards. \nhttps://dublinunited.tourneycentral.com/
URL:https://soccermomsanddads.com/event/dublin-united-champions-cup/
CATEGORIES:Ohio
ATTACH;FMTTYPE=image/png:https://soccermomsanddads.com/wp-content/uploads/2026/02/b6ca7e_3affe9d498574c74b89be8f43f97394cmv2.png
END:VEVENT
BEGIN:VEVENT
DTSTART;VALUE=DATE:20260920
DTEND;VALUE=DATE:20260922
DTSTAMP:20260424T223205
CREATED:20260213T230528Z
LAST-MODIFIED:20260213T230528Z
UID:10000074-1789862400-1790035199@soccermomsanddads.com
SUMMARY:Columbus Fall Classic
DESCRIPTION:https://kingshammersbd.com/tournaments-events/columbus-fall-classic/
URL:https://soccermomsanddads.com/event/columbus-fall-classic/
CATEGORIES:Ohio
ATTACH;FMTTYPE=image/jpeg:https://soccermomsanddads.com/wp-content/uploads/2026/02/b6ca7e_de5ee25757ae48d5a631d56218f5d132mv2.jpg
END:VEVENT
END:VCALENDAR