BEGIN:VCALENDAR
VERSION:2.0
PRODID:-//Ohio Soccer Moms and Dads - ECPv6.15.20//NONSGML v1.0//EN
CALSCALE:GREGORIAN
METHOD:PUBLISH
X-ORIGINAL-URL:https://soccermomsanddads.com
X-WR-CALDESC:Events for Ohio Soccer Moms and Dads
REFRESH-INTERVAL;VALUE=DURATION:PT1H
X-Robots-Tag:noindex
X-PUBLISHED-TTL:PT1H
BEGIN:VTIMEZONE
TZID:America/New_York
BEGIN:DAYLIGHT
TZOFFSETFROM:-0500
TZOFFSETTO:-0400
TZNAME:EDT
DTSTART:20240310T070000
END:DAYLIGHT
BEGIN:STANDARD
TZOFFSETFROM:-0400
TZOFFSETTO:-0500
TZNAME:EST
DTSTART:20241103T060000
END:STANDARD
BEGIN:DAYLIGHT
TZOFFSETFROM:-0500
TZOFFSETTO:-0400
TZNAME:EDT
DTSTART:20250309T070000
END:DAYLIGHT
BEGIN:STANDARD
TZOFFSETFROM:-0400
TZOFFSETTO:-0500
TZNAME:EST
DTSTART:20251102T060000
END:STANDARD
BEGIN:DAYLIGHT
TZOFFSETFROM:-0500
TZOFFSETTO:-0400
TZNAME:EDT
DTSTART:20260308T070000
END:DAYLIGHT
BEGIN:STANDARD
TZOFFSETFROM:-0400
TZOFFSETTO:-0500
TZNAME:EST
DTSTART:20261101T060000
END:STANDARD
END:VTIMEZONE
BEGIN:VEVENT
DTSTART;VALUE=DATE:20250905
DTEND;VALUE=DATE:20250908
DTSTAMP:20260424T210826
CREATED:20260213T224950Z
LAST-MODIFIED:20260213T224950Z
UID:10000065-1757030400-1757289599@soccermomsanddads.com
SUMMARY:Queen City Cup
DESCRIPTION:The Queen City Cup is an all level early fall season event that focuses on ensuring quality matches for all registered teams. The competition is a great event to lead your team into their fall season and state cup tournaments! \nhttps://starrush.org/events/queen-city-cup/
URL:https://soccermomsanddads.com/event/queen-city-cup/
CATEGORIES:Ohio
ATTACH;FMTTYPE=image/webp:https://soccermomsanddads.com/wp-content/uploads/2026/02/QCC_no-dates.webp
END:VEVENT
BEGIN:VEVENT
DTSTART;VALUE=DATE:20250830
DTEND;VALUE=DATE:20250902
DTSTAMP:20260424T210826
CREATED:20260213T224805Z
LAST-MODIFIED:20260213T224805Z
UID:10000064-1756512000-1756771199@soccermomsanddads.com
SUMMARY:OBGC Capital Cup
DESCRIPTION:Boys & Girls U8-U19. \nhttps://elitetournaments.com/tournaments/obgc-capital-cup/
URL:https://soccermomsanddads.com/event/obgc-capital-cup/
ATTACH;FMTTYPE=image/png:https://soccermomsanddads.com/wp-content/uploads/2026/02/b6ca7e_d963a84723e446df9c96706e4a6db1ecmv2.png
END:VEVENT
BEGIN:VEVENT
DTSTART;VALUE=DATE:20250830
DTEND;VALUE=DATE:20250902
DTSTAMP:20260424T210826
CREATED:20260213T224353Z
LAST-MODIFIED:20260214T113516Z
UID:10000062-1756512000-1756771199@soccermomsanddads.com
SUMMARY:Bay Challenge Cup
DESCRIPTION:Contact hosting club for registration information.
URL:https://soccermomsanddads.com/event/bay-challenge-cup/
ATTACH;FMTTYPE=image/jpeg:https://soccermomsanddads.com/wp-content/uploads/2026/02/GettyImages-978179072-1.jpg
END:VEVENT
BEGIN:VEVENT
DTSTART;VALUE=DATE:20250830
DTEND;VALUE=DATE:20250901
DTSTAMP:20260424T210826
CREATED:20260213T224629Z
LAST-MODIFIED:20260213T224629Z
UID:10000063-1756512000-1756684799@soccermomsanddads.com
SUMMARY:Dublin Charity Cup
DESCRIPTION:Entry Fee: U-8/9/10 teams – $585\, U-11/12 teams – $610\, U-13 & up – $635 (if paying by credit card additional fees will be applied). \nhttps://dublinsoccer.net/dsx/
URL:https://soccermomsanddads.com/event/dublin-charity-cup/
CATEGORIES:Ohio
ATTACH;FMTTYPE=image/jpeg:https://soccermomsanddads.com/wp-content/uploads/2026/02/b6ca7e_96717de66d634cc09224d182e2ad6f3bmv2.jpg
END:VEVENT
BEGIN:VEVENT
DTSTART;VALUE=DATE:20250829
DTEND;VALUE=DATE:20250901
DTSTAMP:20260424T210826
CREATED:20260213T224308Z
LAST-MODIFIED:20260213T224308Z
UID:10000061-1756425600-1756684799@soccermomsanddads.com
SUMMARY:Labor Day Challenge
DESCRIPTION:Boys and Girls U8-U15 \nhttps://greatlakestournaments.com/2024/05/02/labor-day-challenge/
URL:https://soccermomsanddads.com/event/labor-day-challenge/
CATEGORIES:Ohio
ATTACH;FMTTYPE=image/png:https://soccermomsanddads.com/wp-content/uploads/2026/02/LABOR-day01.png
END:VEVENT
BEGIN:VEVENT
DTSTART;VALUE=DATE:20250823
DTEND;VALUE=DATE:20250825
DTSTAMP:20260424T210826
CREATED:20260213T223021Z
LAST-MODIFIED:20260214T000841Z
UID:10000059-1755907200-1756079999@soccermomsanddads.com
SUMMARY:Battlefield Blast
DESCRIPTION:Boys & Girls U8-U19 \nhttps://elitetournaments.com/soccer-tournaments/
URL:https://soccermomsanddads.com/event/battlefield-blast/
CATEGORIES:Pennsylvania
ATTACH;FMTTYPE=image/png:https://soccermomsanddads.com/wp-content/uploads/2026/02/b6ca7e_17dc9c9f3f5845c0a29101cc5e23c77bmv2.png
END:VEVENT
BEGIN:VEVENT
DTSTART;VALUE=DATE:20250823
DTEND;VALUE=DATE:20250825
DTSTAMP:20260424T210826
CREATED:20260213T222831Z
LAST-MODIFIED:20260214T113515Z
UID:10000058-1755907200-1756079999@soccermomsanddads.com
SUMMARY:Club Ohio Fall Kickoff
DESCRIPTION:
URL:https://soccermomsanddads.com/event/club-ohio-fall-kickoff/
CATEGORIES:Ohio
ATTACH;FMTTYPE=image/jpeg:https://soccermomsanddads.com/wp-content/uploads/2026/02/GettyImages-687222156-1.jpg
END:VEVENT
BEGIN:VEVENT
DTSTART;VALUE=DATE:20250823
DTEND;VALUE=DATE:20250825
DTSTAMP:20260424T210826
CREATED:20260213T222746Z
LAST-MODIFIED:20260213T222746Z
UID:10000057-1755907200-1756079999@soccermomsanddads.com
SUMMARY:Dulles National Soccer Tournament
DESCRIPTION:Boys & Girls U9-U15 \nhttps://elitetournaments.com/soccer-tournaments/
URL:https://soccermomsanddads.com/event/dulles-national-soccer-tournament/
ATTACH;FMTTYPE=image/png:https://soccermomsanddads.com/wp-content/uploads/2026/02/b6ca7e_a4577437878c4f43b673192f7b857302mv2.png
END:VEVENT
BEGIN:VEVENT
DTSTART;VALUE=DATE:20250815
DTEND;VALUE=DATE:20250818
DTSTAMP:20260424T210826
CREATED:20260213T222528Z
LAST-MODIFIED:20260213T222547Z
UID:10000056-1755216000-1755475199@soccermomsanddads.com
SUMMARY:Loudon Premier Cup
DESCRIPTION:https://elitetournaments.com/soccer-tournaments/
URL:https://soccermomsanddads.com/event/loudon-premier-cup/
ATTACH;FMTTYPE=image/png:https://soccermomsanddads.com/wp-content/uploads/2026/02/b6ca7e_53ef72c312014ea299495fad24edd51emv2.png
END:VEVENT
BEGIN:VEVENT
DTSTART;VALUE=DATE:20250815
DTEND;VALUE=DATE:20250818
DTSTAMP:20260424T210826
CREATED:20260213T222351Z
LAST-MODIFIED:20260213T222351Z
UID:10000055-1755216000-1755475199@soccermomsanddads.com
SUMMARY:Community Kickoff Soccer Tournament
DESCRIPTION:The Community Kickoff provides teams with an early fall tournament at the perfect place to play\, the beautiful Elizabethtown Sports Park. It’s an opportunity for players\, coaches\, and parents to spend time together on and off the field\, creating team bonds that lead to a great soccer year. Each team is guaranteed at least 3 games and an amazing experience on and off the field. Join us for the Community Kickoff 2024! \nhttps://cincysc.com/tourneys/community-kickoff/
URL:https://soccermomsanddads.com/event/community-kickoff-soccer-tournament/
ATTACH;FMTTYPE=image/png:https://soccermomsanddads.com/wp-content/uploads/2026/02/Community-KO-26.png
END:VEVENT
BEGIN:VEVENT
DTSTART;VALUE=DATE:20250807
DTEND;VALUE=DATE:20250811
DTSTAMP:20260424T210826
CREATED:20260213T222202Z
LAST-MODIFIED:20260214T113509Z
UID:10000054-1754524800-1754870399@soccermomsanddads.com
SUMMARY:TCYO Hotfire Memorial
DESCRIPTION:
URL:https://soccermomsanddads.com/event/tcyo-hotfire-memorial/
CATEGORIES:Ohio
ATTACH;FMTTYPE=image/jpeg:https://soccermomsanddads.com/wp-content/uploads/2026/02/GettyImages-941858522-1.jpg
END:VEVENT
BEGIN:VEVENT
DTSTART;VALUE=DATE:20250807
DTEND;VALUE=DATE:20250811
DTSTAMP:20260424T210826
CREATED:20260213T222059Z
LAST-MODIFIED:20260213T222059Z
UID:10000053-1754524800-1754870399@soccermomsanddads.com
SUMMARY:Rising Stars Cup
DESCRIPTION:Boys U8-U12 \nhttps://elitetournaments.com/soccer-tournaments/
URL:https://soccermomsanddads.com/event/rising-stars-cup/
ATTACH;FMTTYPE=image/png:https://soccermomsanddads.com/wp-content/uploads/2026/02/b6ca7e_c341f1e9d4bd47f688fb9d41302a7539mv2.png
END:VEVENT
BEGIN:VEVENT
DTSTART;VALUE=DATE:20250802
DTEND;VALUE=DATE:20250803
DTSTAMP:20260424T210826
CREATED:20260212T201132Z
LAST-MODIFIED:20260212T201132Z
UID:10000049-1754092800-1754179199@soccermomsanddads.com
SUMMARY:ISC Color Explosion 5v5 Tournament
DESCRIPTION:ISC introduced the 5v5 Color Explosion Tournament in 2023\, and it continues to grow every year. A one day tournament\, we strive to make this a fun day of soccer for the entire family\, with food trucks\, our Free Family Fun Zone\, and our Color Explosion Resolute Athletic Complex Columbus\, Ohio Sporting Columbus U6-U12 Boys and Girls Middle School Boys and Girls celebrations. \nhttps://www.iscsoccer.org/events/5v5-color-explosion-tournament
URL:https://soccermomsanddads.com/event/isc-color-explosion-5v5-tournament/
ATTACH;FMTTYPE=image/png:https://soccermomsanddads.com/wp-content/uploads/2026/02/imgi_2_ColorExplosion.png
END:VEVENT
BEGIN:VEVENT
DTSTART;VALUE=DATE:20250802
DTEND;VALUE=DATE:20250803
DTSTAMP:20260424T210826
CREATED:20260212T195951Z
LAST-MODIFIED:20260214T025423Z
UID:10000048-1754092800-1754179199@soccermomsanddads.com
SUMMARY:Columbus Cup 3v3
DESCRIPTION:U6-U12 Boys and Girls Middle School Boys and Girls The event will be played on the AirPitch Format used by Arsenal\, Manchester City\, and many TOP clubs around the world. Enjoy a unique\, non-stop-play environment with more dribbles\, more passes\, more intensity & more FUN! \nhttps://airpitchusa.com/columbus-oh-soccer-3v3-airpitch-tournament?fbclid=IwY2xjawKsBi1leHRuA2FlbQIxMABicmlkETFHenhPUUNuZjMwQTRhcmtMAR4mIi-Kt2ET_Wfa-s4U_xGBXTQAt7qVLUaRt1NsTWIXYXbUsors8GWwllTHIQ_aem_IoLsmeajVtu7xmit6AvrWw
URL:https://soccermomsanddads.com/event/columbus-cup-3v3-2/
CATEGORIES:Ohio
ATTACH;FMTTYPE=image/png:https://soccermomsanddads.com/wp-content/uploads/2026/02/imgi_24_080225_Columbus_OH_W.png.png
END:VEVENT
END:VCALENDAR