BEGIN:VCALENDAR
VERSION:2.0
PRODID:-//Ohio Soccer Moms and Dads - ECPv6.15.20//NONSGML v1.0//EN
CALSCALE:GREGORIAN
METHOD:PUBLISH
X-ORIGINAL-URL:https://soccermomsanddads.com
X-WR-CALDESC:Events for Ohio Soccer Moms and Dads
REFRESH-INTERVAL;VALUE=DURATION:PT1H
X-Robots-Tag:noindex
X-PUBLISHED-TTL:PT1H
BEGIN:VTIMEZONE
TZID:America/New_York
BEGIN:DAYLIGHT
TZOFFSETFROM:-0500
TZOFFSETTO:-0400
TZNAME:EDT
DTSTART:20260308T070000
END:DAYLIGHT
BEGIN:STANDARD
TZOFFSETFROM:-0400
TZOFFSETTO:-0500
TZNAME:EST
DTSTART:20261101T060000
END:STANDARD
BEGIN:DAYLIGHT
TZOFFSETFROM:-0500
TZOFFSETTO:-0400
TZNAME:EDT
DTSTART:20270314T070000
END:DAYLIGHT
BEGIN:STANDARD
TZOFFSETFROM:-0400
TZOFFSETTO:-0500
TZNAME:EST
DTSTART:20271107T060000
END:STANDARD
BEGIN:DAYLIGHT
TZOFFSETFROM:-0500
TZOFFSETTO:-0400
TZNAME:EDT
DTSTART:20280312T070000
END:DAYLIGHT
BEGIN:STANDARD
TZOFFSETFROM:-0400
TZOFFSETTO:-0500
TZNAME:EST
DTSTART:20281105T060000
END:STANDARD
END:VTIMEZONE
BEGIN:VEVENT
DTSTART;VALUE=DATE:20270119
DTEND;VALUE=DATE:20270120
DTSTAMP:20260424T223211
CREATED:20260214T000147Z
LAST-MODIFIED:20260214T000147Z
UID:10000105-1800316800-1800403199@soccermomsanddads.com
SUMMARY:MLK Freedom Futsal Tourney
DESCRIPTION:What better way to spend a snowy Monday off from school than by playing futsal! Games are played on basketball courts and are fast-paced with lots of touches. Schedules are designed with moms and dads in mind: there’s not a ton of time between games so you won’t be waiting around all day. \nhttps://cincysc.com/tourneys/mlk-freedom/
URL:https://soccermomsanddads.com/event/mlk-freedom-futsal-tourney/
CATEGORIES:Ohio
ATTACH;FMTTYPE=image/jpeg:https://soccermomsanddads.com/wp-content/uploads/2026/02/FutsalFreedom_RGB.jpg
END:VEVENT
BEGIN:VEVENT
DTSTART;VALUE=DATE:20270123
DTEND;VALUE=DATE:20270126
DTSTAMP:20260424T223211
CREATED:20260214T000233Z
LAST-MODIFIED:20260214T113545Z
UID:10000106-1800662400-1800921599@soccermomsanddads.com
SUMMARY:Volta Cup Cincinnati 2026
DESCRIPTION:
URL:https://soccermomsanddads.com/event/volta-cup-cincinnati-2026/
CATEGORIES:Ohio
ATTACH;FMTTYPE=image/jpeg:https://soccermomsanddads.com/wp-content/uploads/2026/02/GettyImages-1348856360-1.jpg
END:VEVENT
BEGIN:VEVENT
DTSTART;VALUE=DATE:20270125
DTEND;VALUE=DATE:20270126
DTSTAMP:20260424T223211
CREATED:20260214T000422Z
LAST-MODIFIED:20260214T000422Z
UID:10000107-1800835200-1800921599@soccermomsanddads.com
SUMMARY:Goalkeeper Battle Winter
DESCRIPTION:U18-U17 Boys and Girls. \nhttps://www.geosasgkacademy.com/
URL:https://soccermomsanddads.com/event/goalkeeper-battle-winter/
CATEGORIES:Ohio
ATTACH;FMTTYPE=image/avif:https://soccermomsanddads.com/wp-content/uploads/2026/02/Diseno-sin-titulo-19_edited.avif
END:VEVENT
BEGIN:VEVENT
DTSTART;VALUE=DATE:20270201
DTEND;VALUE=DATE:20270301
DTSTAMP:20260424T223211
CREATED:20260214T000549Z
LAST-MODIFIED:20260214T000549Z
UID:10000108-1801440000-1803859199@soccermomsanddads.com
SUMMARY:Futsal Feminino SuperCopa
DESCRIPTION:Girls Only futsal tournament for NGWSD girls teams U8 and up. \nhttps://www.columbusfutsal.us/tournaments
URL:https://soccermomsanddads.com/event/futsal-feminino-supercopa/
CATEGORIES:Ohio
ATTACH;FMTTYPE=image/avif:https://soccermomsanddads.com/wp-content/uploads/2026/02/27f6a5_f925e264f36f4627b00df66bdb8e4697mv2.avif
END:VEVENT
END:VCALENDAR